BEGIN:VCALENDAR
VERSION:2.0
PRODID:-//hacksw/handcal//NONSGML v1.0//EN
BEGIN:VEVENT
DTSTAMP:20261105T183000Z
DTSTART:20261105T183000Z
DTEND:20261105T183000Z
SUMMARY:Einwohnerversammlung im MFZ
END:VEVENT
END:VCALENDAR
