BEGIN:VCALENDAR
VERSION:2.0
PRODID:-//hacksw/handcal//NONSGML v1.0//EN
BEGIN:VEVENT
DTSTAMP:20261104T183000Z
DTSTART:20261104T183000Z
DTEND:20261104T183000Z
SUMMARY:CDU Treff
END:VEVENT
END:VCALENDAR
